BEGIN:VCALENDAR
VERSION:2.0
CALSCALE:GREGORIAN
METHOD:REQUEST
PRODID:Hagen History Center
BEGIN:VEVENT
UID: 47938569e77ecf1763d@info@eriehistory.org
SUMMARY:Live, Work, and Play: Designing the City of the Future – The Woodlands, Texas by Architect Robert Heineman, FAIA
DTSTAMP:20260421T094239
DTSTART:20260506T190000
DTEND:20260506T190000
LOCATION:3207 State St. Erie , PA 16507
DESCRIPTION:What will cities of the future look like? Architect Robert Heineman, FAIA, will share his insights from his work on the development of The Woodlands, Texas, one of the nation’s most influential master-planned cities. 
STATUS:CONFIRMED
SEQUENCE:3
END:VEVENT
END:VCALENDAR