BEGIN:VCALENDAR
VERSION:2.0
CALSCALE:GREGORIAN
METHOD:REQUEST
PRODID:Hagen History Center
BEGIN:VEVENT
UID: 82509169e763d83a74f@info@eriehistory.org
SUMMARY:Rope: How a Bundle of Twisted Fibers Became the Backbone of Civilization
DTSTAMP:20260421T074736
DTSTART:20260422T190000
DTEND:20260422T190000
LOCATION:
DESCRIPTION:When we tie our shoes, we don’t think about the history of rope, but did you know rope has ties to prehistoric times in knots, pulleys, winches, and other tools? It also has a more current connection to outer space elevators. Learn more when Tim Queeney, the author of Rope: How a Bundle of Twisted Fibers Became the Backbone of Civilization, comes to the Jefferson Educational Society.  Queeney, the former editor of Ocean Navigator, will bring his adventures and exploration as a researcher, author, teacher, and teacher aboard tall ships to life on April 22.
STATUS:CONFIRMED
SEQUENCE:3
END:VEVENT
END:VCALENDAR