BEGIN:VCALENDAR
VERSION:2.0
CALSCALE:GREGORIAN
METHOD:REQUEST
PRODID:Hagen History Center
BEGIN:VEVENT
UID: 138396469e64b6b11504@info@eriehistory.org
SUMMARY:SOLD OUT Australian Dinner at the Watson-Curtze Mansion 
DTSTAMP:20260420T115107
DTSTART:20260210T183000
DTEND:20260210T183000
LOCATION:356 West 6th Street Erie, Pennsylvania 16507
DESCRIPTION:Four-Course Australian Dinner – Tuesday, February 10<br />
First Course Garlic Prawns<br />
Second Course: Pork &amp; Vegetable Sausage Rolls<br />
Main Course:  Please select one: Kangaroo with Australian Shiraz Sauce, served alongside Parmesan Risotto OR Barramundi with Orange Beurre Blanc, served alongside Parmesan Risotto<br />
Dessert:  Classic Pavlova<br />
Accompaniment: Traditional Damper — flame-baked Australian soda bread<br />

STATUS:CONFIRMED
SEQUENCE:3
END:VEVENT
END:VCALENDAR