BEGIN:VCALENDAR
VERSION:2.0
CALSCALE:GREGORIAN
METHOD:REQUEST
PRODID:Hagen History Center
BEGIN:VEVENT
UID: 53251969e64b5603523@info@eriehistory.org
SUMMARY:Live Music in the Mansion
DTSTAMP:20260420T115046
DTSTART:20251220T120000
DTEND:20251220T120000
LOCATION:
DESCRIPTION:Mark Your Calendar! Enjoy live performances by the Erie Day School Show Choir while you tour our beautifully decorated mansion. 
STATUS:CONFIRMED
SEQUENCE:3
END:VEVENT
END:VCALENDAR