BEGIN:VCALENDAR
VERSION:2.0
CALSCALE:GREGORIAN
METHOD:REQUEST
PRODID:Hagen History Center
BEGIN:VEVENT
UID: 275188469e64b4600c85@info@eriehistory.org
SUMMARY:World War II Comes to Life at the History Center
DTSTAMP:20260420T115029
DTSTART:20260117T100000
DTEND:20260117T170000
LOCATION:356 West 6th Street Erie, Pennsylvania 16507
DESCRIPTION:World War II Comes to Life at the History Center<br />
Siege of Bastogne / Battle of the Bulge Reenactment<br />
 Date: January 17, 2026<br />
Tickets for the day-long event must be purchased in our gift shop. <br />
Location: Hagen History Center, 356 W. 6th St., Erie Pa<br />
Step back in time to December 1944, when American soldiers were trapped in snowy Bastogne, Belgium, during one of World War II’s most pivotal moments—the Battle of the Bulge. Despite being outnumbered and surrounded, the 101st Airborne Division held strong until reinforcements from General Patton’s Third Army broke through, securing an Allied victory.<br />
Experience history like never before as we transform our campus into Bastogne!<br />
What You’ll See &amp; Do:<br />
Interact with 20 reenactors from the 99th Infantry Division, 505th Parachute Infantry Regiment (82nd Airborne), and 11th Panzer Division<br />
Explore authentic equipment and vehicles from the era<br />
Watch battle strategy demonstrations<br />
Participate in role-playing missions like stealing secret plans and delivering them to the Allies<br />
Learn equipment handling and training basics<br />
Tour authentic encampments and field quarters<br />
Gain insights into the life of a soldier during the Battle of the Bulge<br />
<br />
Admission:<br />
Members: FREE<br />
Nonmembers: $8<br />
Students: $6<br />
Veterans: $7<br />
Kids 6 &amp; under: FREE<br />
Museums for All: $3<br />
Tickets for the day-long event must be purchased in our gift shop. <br />
Schedule: <br />
<br />
10:00 AM Presentation on the Battle of the Bulge in the 2nd floor conference room of Wood Morrison by Mark Squeglia and Roman Straub. REGISTRATION CLOSED <br />
11:30 AM Presentation on the Battle of the Bulge in the 2nd floor conference room of Wood Morrison by Mark Squeglia and Roman Straub. REGISTRATION CLOSED<br />
1:00 PM Germans provide surrender terms to American Units outside in the area between the Wood Morrison House and the Watson Curtze Mansion<br />
2:45 PM Presentation on the Battle of the Bulge in the 2nd floor conference room of Wood Morrison by Mark Squeglia and Roman Straub. REGISTRATION CLOSED <br />
4:15 PM Germans provide surrender terms to American Units outside in the area between the Wood Morrison House and the Watson-Curtze Mansion<br />
4:45 PM Ceremony to honor the veterans of Erie County who served in the Battle of the Bulge. We will read the names of Erie County residents that lost their lives in the battle and have a bugler play Taps <br />
5:00 PM End of Event<br />
<br />
American equipment demonstrations and German equipment demonstrations occurring from 10 AM to 4 PM <br />
<br />
Don’t miss this immersive tribute to courage and history!<br />
Interact with 20 reenactors from the 99th Infantry Division, 505th Parachute Infantry Regiment (82nd Airborne), and 11th Panzer Division<br />
Explore authentic equipment and vehicles from the era<br />
Watch battle strategy demonstrations<br />
Participate in role-playing missions like stealing secret plans and delivering them to the Allies<br />
Learn equipment handling and training basics<br />
Tour authentic encampments and field quarters<br />
Gain insights into the life of a soldier during the Battle of the Bulge<br />
Tickets for the day-long event must be purchased in our gift shop. <br />
<br />

STATUS:CONFIRMED
SEQUENCE:3
END:VEVENT
END:VCALENDAR