BEGIN:VCALENDAR
VERSION:2.0
CALSCALE:GREGORIAN
METHOD:REQUEST
PRODID:Hagen History Center
BEGIN:VEVENT
UID: 163788569e64b6b05a2e@info@eriehistory.org
SUMMARY:Wassail &amp; Winter Warmers at the Yellow House
DTSTAMP:20260420T115107
DTSTART:20251209T180000
DTEND:20251209T180000
LOCATION:
DESCRIPTION:Sorry! This event is sold out. <br />
Back by popular demand — our Wassail Class is returning to the Yellow House on December 9 and trust us… it always sells out! <br />
Join the talented team from Full Circle Winery for a festive evening of flavor and tradition. You’ll learn how to make cozy winter beverages, and we&#039;ll have the winery&#039;s famous charcuterie on hand while you sip and stir.  <br />
Every guest takes home:<br />
• A spice sachet<br />
• Recipe cards<br />
 Limited seating — only 16 seats, so grab your spot before it’s gone!
STATUS:CONFIRMED
SEQUENCE:3
END:VEVENT
END:VCALENDAR