BEGIN:VCALENDAR
VERSION:2.0
CALSCALE:GREGORIAN
METHOD:REQUEST
PRODID:Hagen History Center
BEGIN:VEVENT
UID: 258870669e64da22ba0a@info@eriehistory.org
SUMMARY:The Story of Us, Erie Polonia: Churches and Neighborhoods presentation 
DTSTAMP:20260420T120034
DTSTART:20251112T163000
DTEND:20251112T163000
LOCATION:
DESCRIPTION:REGISTRATION IS CLOSED<br />
Exhibit Guest Curator Bobby J. Sulecki shares his research for The Story of Us, Erie Polonia: Churches and Neighborhoods Nov. 12 from 4:30 to 5:30 pm.<br />
The presentation will take place in the Watson-Curtze Mansion.<br />
The exhibit is on display on the second floor of the Wood-Morrison House, (the building east of the mansion) The exhibit includes an interesting timeline, artifacts and memories that touch on the early Polish churches and neighborhoods. For more information and to register, click on the Event info link below.<br />

STATUS:CONFIRMED
SEQUENCE:3
END:VEVENT
END:VCALENDAR