BEGIN:VCALENDAR
VERSION:2.0
CALSCALE:GREGORIAN
METHOD:REQUEST
PRODID:Hagen History Center
BEGIN:VEVENT
UID: 193441869e64ad3d04c3@info@eriehistory.org
SUMMARY:New Exhibit: The Story of Us, Erie Polonia: Churches and Neighborhoods 
DTSTAMP:20260420T114835
DTSTART:20251001T100000
DTEND:20251001T100000
LOCATION:338 West 6th St. Erie, PA 16507
DESCRIPTION:The Story of Us, Erie Polonia: Churches and Neighborhoods <br />
Curated by Bobby Sulecki<br />
Explore Erie’s rich Polish heritage faith, neighborhoods, and the churches that built community.<br />
Wood Morrison House – 2nd Floor<br />
338 West 6th Street, Erie, PA<br />
October 1 through January 30, 2026<br />
The exhibit is on display on the second floor of the Wood-Morrison House, (the building east of the mansion) The exhibit includes an interesting timeline, artifacts and memories that touch on the early Polish churches and neighborhoods:<br />
St. Stanislaus, 13th and Wallace<br />
Holy Trinity, 2220 Reed<br />
St. Hedwig, 521 E 3rd<br />
St. Casimir, 629 Hess<br />
The exhibit is open Monday through Saturday from 10 am to 5 pm and Sundays, noon to 5 pm. It is free to members of the Hagen History Center and guest admission is $12.<br />
Opening Reception: October 2, 5–7 PM<br />
Join us in celebrating the vibrant legacy of Erie’s Polish-American community!
STATUS:CONFIRMED
SEQUENCE:3
END:VEVENT
END:VCALENDAR