BEGIN:VCALENDAR
VERSION:2.0
CALSCALE:GREGORIAN
METHOD:REQUEST
PRODID:Hagen History Center
BEGIN:VEVENT
UID: 40137069e64b557fba3@info@eriehistory.org
SUMMARY:Mushroom foraging returns! 
DTSTAMP:20260420T115045
DTSTART:20251001T160000
DTEND:20251001T160000
LOCATION:
DESCRIPTION:We’re doing it AGAIN! Back by popular demand, mushroom expert Josh Mowris is leading another magical Yellow House Trail Forage!<br />
<br />
Kick things off with mushroom truffle pizza + drinks, then grab your basket and hit the trail with us.<br />
<br />
Learn how to spot fall mushrooms, discover tasty recipe ideas, and unlock the secrets of their medicinal powers!<br />
<br />
Save the Date: RAIN DATE Oct. 2 | 4–6 PM
STATUS:CONFIRMED
SEQUENCE:3
END:VEVENT
END:VCALENDAR