BEGIN:VCALENDAR
VERSION:2.0
CALSCALE:GREGORIAN
METHOD:REQUEST
PRODID:Hagen History Center
BEGIN:VEVENT
UID: 112053969e660433969c@info@eriehistory.org
SUMMARY:Bike tour: Boro History Ride
DTSTAMP:20260420T132003
DTSTART:20250904T170000
DTEND:20250904T170000
LOCATION:500 W. Plum St. Edinboro, Pa.  Edinboro , PA  16412
DESCRIPTION:HURRY TO SIGN UP! Ride through history Sept. 4!<br />
Join us for a scenic 8-mile bike adventure through beautiful Edinboro—where every stop tells a story! Where we&#039;ll go:<br />
Miracles on Maple Hill /Virginia Sorensen<br />
Lakeside Farms<br />
Edinboro Grange<br />
Edinboro Area Historical Society <br />
Waldo &quot;Pop&quot; Bates<br />
PennWest<br />
Sunset camps<br />
Curtze homestead<br />
The Canoe Club<br />
Expect surprises, special guests, and fascinating tales along the way, all led by the amazing duo Michelee Covelli Curtze &amp; Tom New! <br />
Parking available at Edinboro 814 Bike Shop / YAAS Mercantile—just roll up and get ready to ride!<br />
Bring your bike, your curiosity, and your love for local history. Let’s make some memories on wheels! <br />
Pease wear a helmet. 
STATUS:CONFIRMED
SEQUENCE:3
END:VEVENT
END:VCALENDAR