BEGIN:VCALENDAR
VERSION:2.0
CALSCALE:GREGORIAN
METHOD:REQUEST
PRODID:Hagen History Center
BEGIN:VEVENT
UID: 119146669e65f7c9f623@info@eriehistory.org
SUMMARY:Annual Member Picnic and Meeting 
DTSTAMP:20260420T131644
DTSTART:20250715T180000
DTEND:20250715T180000
LOCATION:
DESCRIPTION:All current members of the Hagen History Center are invited to our Annual Member Picnic &amp; Meeting at the Battles White House.<br />
<br />
Experience the stunning restoration of Charlotte Battles’ historic home and gardens, now surrounded by sunflowers ready to bloom!<br />
<br />
Tuesday, July 15<br />
<br />
306 Walnut St., Girard, PA<br />
<br />
6:00 – 8:00 p.m.<br />
<br />
Free for current members<br />
<br />
Not a member? Join here!<br />
We can’t wait to see you there!<br />
<br />
Please RSVP by July 7 to pparker@eriehistory.org
STATUS:CONFIRMED
SEQUENCE:3
END:VEVENT
END:VCALENDAR