BEGIN:VCALENDAR
VERSION:2.0
CALSCALE:GREGORIAN
METHOD:REQUEST
PRODID:Hagen History Center
BEGIN:VEVENT
UID: 103000869e65e8bf3092@info@eriehistory.org
SUMMARY:Sourdough &amp; Spirits at the Yellow House 
DTSTAMP:20260420T131243
DTSTART:20250527T180000
DTEND:20250527T180000
LOCATION:
DESCRIPTION:Sourdough &amp; Spirits at the Yellow House<br />
<br />
We all knead this class! Enjoy the art of sourdough breadmaking with Vince Bartone of Herb &amp; Honey Bakery. Vince will guide us through the secrets of sourdough — and you’ll leave with your very own starter to keep the magic going at home. But it&#039;s more than that! We’ll kick things off with a one-of-a-kind cocktail, followed by delicious sourdough snacks, house-made sourdough crackers, and a sweet dessert — all served in the cozy charm of the Yellow House.<br />
Only 16 seats available | $50 per person<br />
Secure your spot before they rise away!
STATUS:CONFIRMED
SEQUENCE:3
END:VEVENT
END:VCALENDAR