BEGIN:VCALENDAR
VERSION:2.0
CALSCALE:GREGORIAN
METHOD:REQUEST
PRODID:Hagen History Center
BEGIN:VEVENT
UID: 267734469e65e31d6234@info@eriehistory.org
SUMMARY:SOLD OUT! Mushroom Foraging at the Yellow House in Girard
DTSTAMP:20260420T131113
DTSTART:20250429T180000
DTEND:20250429T180000
LOCATION:
DESCRIPTION:We&#039;re doing it again! Mushroom Expert Josh Mowris takes us on a Yellow House Trail tour to identify mushrooms!<br />
<br />
Bring a basket and forage with us.<br />
<br />
We’ll follow up with mushroom treats from local vendors and a unique mushroom infused cocktail.
STATUS:CONFIRMED
SEQUENCE:3
END:VEVENT
END:VCALENDAR