BEGIN:VCALENDAR
VERSION:2.0
CALSCALE:GREGORIAN
METHOD:REQUEST
PRODID:Hagen History Center
BEGIN:VEVENT
UID: 338306469e65f9cb7005@info@eriehistory.org
SUMMARY:The Trinity of American Architecture || Doris Becker Lecture Series at the Jefferson Educational Society 
DTSTAMP:20260420T131716
DTSTART:20250429T190000
DTEND:20250429T190000
LOCATION:3207 State St. Erie , PA 16507
DESCRIPTION:Join us as we welcome Kimberly Montague, President and CEO of Albert Kahn Architecture in Detroit, in a free lecture as part of our collaboration with Jefferson Educational Society. <br />
Montague will explore the three giants of American architecture: Henry Hobbs Richardson, Louis Sullivan, and Frank Lloyd Wright. Their trend-setting styles were completely revolutionary for their day, and helped to inspire a completely unique brand of American design. <br />
<br />
Mark your calendars! The lecture is free, but signups are necessary. <br />
<br />
<br />

STATUS:CONFIRMED
SEQUENCE:3
END:VEVENT
END:VCALENDAR