BEGIN:VCALENDAR
VERSION:2.0
CALSCALE:GREGORIAN
METHOD:REQUEST
PRODID:Hagen History Center
BEGIN:VEVENT
UID: 194817369e65fdf3643a@info@eriehistory.org
SUMMARY:SOLD OUT! A Night in Mykonos at the Watson-Curtze Mansion
DTSTAMP:20260420T131823
DTSTART:20250424T183000
DTEND:20250424T183000
LOCATION:
DESCRIPTION:Join us and enjoy four courses created by Make It Fabulous <br />
<br />
First course: Spanakopita <br />
Second course: Greek Salad <br />
Third course: Entrée (choose one): <br />
                  Pork Souvlaki served with rice pilaf, potatoes, grilled veggies &amp; tzatziki <br />
                  Shrimp Saganaki served on a bed of warmed orzo feta with lemon and dill<br />
                 Chicken Souvlaki served with rice pilaf, potatoes, grilled veggies &amp; tzatziki<br />
Dessert: Portokalopita, an orange phyllo cake with a honey syrup<br />
<br />
$105 per person includes wine, tax and gratuity. 
STATUS:CONFIRMED
SEQUENCE:3
END:VEVENT
END:VCALENDAR