BEGIN:VCALENDAR
VERSION:2.0
CALSCALE:GREGORIAN
METHOD:REQUEST
PRODID:Hagen History Center
BEGIN:VEVENT
UID: 310842969e6604acc0b0@info@eriehistory.org
SUMMARY:Tom Hagen&#039;s 90th Birthday Bash
DTSTAMP:20260420T132010
DTSTART:20250913T180000
DTEND:20250913T220000
LOCATION:356 West 6th Street Erie, Pennsylvania 16507
DESCRIPTION:Thank you for all your support!
STATUS:CONFIRMED
SEQUENCE:3
END:VEVENT
END:VCALENDAR