BEGIN:VCALENDAR
VERSION:2.0
CALSCALE:GREGORIAN
METHOD:REQUEST
PRODID:Hagen History Center
BEGIN:VEVENT
UID: 255214369e64ad4cdd2e@info@eriehistory.org
SUMMARY:Live Music in the Mansion
DTSTAMP:20260420T114836
DTSTART:20251214T133000
DTEND:20251214T133000
LOCATION:
DESCRIPTION:Mark Your Calendar! Enjoy our beautifully decorated mansion with a live performance by the Mercyhurst Prep Show Choir at 1:30 p.m.
STATUS:CONFIRMED
SEQUENCE:3
END:VEVENT
END:VCALENDAR